BEGIN:VCALENDAR
VERSION:2.0
PRODID:-//IASA Netherlands - ECPv6.15.20//NONSGML v1.0//EN
CALSCALE:GREGORIAN
METHOD:PUBLISH
X-WR-CALNAME:IASA Netherlands
X-ORIGINAL-URL:https://netherlands.iasaglobal.org
X-WR-CALDESC:Events for IASA Netherlands
REFRESH-INTERVAL;VALUE=DURATION:PT1H
X-Robots-Tag:noindex
X-PUBLISHED-TTL:PT1H
BEGIN:VTIMEZONE
TZID:Europe/Amsterdam
BEGIN:DAYLIGHT
TZOFFSETFROM:+0100
TZOFFSETTO:+0200
TZNAME:CEST
DTSTART:20250330T010000
END:DAYLIGHT
BEGIN:STANDARD
TZOFFSETFROM:+0200
TZOFFSETTO:+0100
TZNAME:CET
DTSTART:20251026T010000
END:STANDARD
BEGIN:DAYLIGHT
TZOFFSETFROM:+0100
TZOFFSETTO:+0200
TZNAME:CEST
DTSTART:20260329T010000
END:DAYLIGHT
BEGIN:STANDARD
TZOFFSETFROM:+0200
TZOFFSETTO:+0100
TZNAME:CET
DTSTART:20261025T010000
END:STANDARD
BEGIN:DAYLIGHT
TZOFFSETFROM:+0100
TZOFFSETTO:+0200
TZNAME:CEST
DTSTART:20270328T010000
END:DAYLIGHT
BEGIN:STANDARD
TZOFFSETFROM:+0200
TZOFFSETTO:+0100
TZNAME:CET
DTSTART:20271031T010000
END:STANDARD
END:VTIMEZONE
BEGIN:VEVENT
DTSTART;TZID=Europe/Amsterdam:20260507T160000
DTEND;TZID=Europe/Amsterdam:20260507T193000
DTSTAMP:20260420T104832
CREATED:20260310T114223Z
LAST-MODIFIED:20260310T114223Z
UID:6441-1778169600-1778182200@netherlands.iasaglobal.org
SUMMARY:Q2 Iasa Quarterly Event - Connect In Person
DESCRIPTION:Connect in person at free Q2 Iasa Quarterly Event – The Netherlands\n Thursday\, May 7th 2026 \nIasa Netherlands invites you to the next Quarterly Event—a great opportunity to connect\, learn\, and get inspired alongside fellow professionals. Feel free to share this invitation with peers in your network\, we’d love to see the community grow! \nWhy you should attend\n Dynamic talksGain fresh perspectives from two expert speakers who will share practical insights and actionable strategies. \n Networking opportunitiesConnect with peers from the architecture community over dinner and drinks. \n \nAgenda highlights\n 16:00 – Welcome & Introduction to Iasa 16:40 – Speaker Session 1  (more to follow soon) 17:30 – Dinner & Networking 18:10 – Speaker Session 2 (more to follow soon) 19:00 – Drinks & Networking 19:30 – Event close \nDon’t miss this opportunity to exchange ideas\, expand your knowledge\, and strengthen your professional network within the Iasa community. \n Save the date and join us!
URL:https://netherlands.iasaglobal.org/event/connect-inperson-free-q2-iasa-quarterly-event/
LOCATION:TrendAI™\, Jupiter Building Amsterdam\, Herikerberweg 62\, Amsterdam\, Noord-Holland\, 1101 CM\, Netherlands
CATEGORIES:Chapter Events
ATTACH;FMTTYPE=image/png:https://netherlands.iasaglobal.org/wp-content/uploads/2026/03/IasaNLQ226.png
END:VEVENT
BEGIN:VEVENT
DTSTART;TZID=Europe/Amsterdam:20260618T170000
DTEND;TZID=Europe/Amsterdam:20260618T210000
DTSTAMP:20260420T104832
CREATED:20260310T114807Z
LAST-MODIFIED:20260325T091826Z
UID:6445-1781802000-1781816400@netherlands.iasaglobal.org
SUMMARY:The Next CAF Dinner Event: Hard-Won Insights & High-Level Sparring
DESCRIPTION:CAF Dinner Event: Hard-Won Insights & High-Level Sparring\n030 Edition\nWe’re pleased to announce the next CAF Roundtable & Dinner\, taking place in Utrecht on Thursday\, June 18th\, 2026\, starting at 17:00. Remember CAF members can bring along a guest. Just let our Community Manager know via dhulst@iasaoffice.org\, so she can pass along the calendar invite. \nThe evening will begin with an insightful talk\, followed by an open and interactive discussions exploring the Elevation of Architecture Capability in the Age of AI.  \nAfter the sessions\, we’ll continue the conversation over dinner at a nearby restaurant. \nAgenda\n Roundtable: 17:00\n Speaker: to be determined\n Dinner: 19:00 Please note: participants will cover their own meal costs. \n  \nLogistics\n Location: Utrecht\, location shared by calendar invite via e-mail.\n🅿️ (details to follow) \n This event is exclusively for CAF members.\nNot yet a CAF member\, contact our Community Manager at dhulst@iasaoffice.org. \nWe look forward to seeing you there! \nSnapshot of the previous CAF Dinner Event
URL:https://netherlands.iasaglobal.org/event/the-next-caf-dinner-hard-won-insights-highlevel-sparring/
CATEGORIES:CAF Events
ATTACH;FMTTYPE=image/jpeg:https://netherlands.iasaglobal.org/wp-content/uploads/2026/03/CAF-Q2-2026-.jpg
END:VEVENT
END:VCALENDAR