BEGIN:VCALENDAR
VERSION:2.0
PRODID:-//IASA Netherlands - ECPv6.15.20//NONSGML v1.0//EN
CALSCALE:GREGORIAN
METHOD:PUBLISH
X-WR-CALNAME:IASA Netherlands
X-ORIGINAL-URL:https://netherlands.iasaglobal.org
X-WR-CALDESC:Events for IASA Netherlands
REFRESH-INTERVAL;VALUE=DURATION:PT1H
X-Robots-Tag:noindex
X-PUBLISHED-TTL:PT1H
BEGIN:VTIMEZONE
TZID:Europe/Amsterdam
BEGIN:DAYLIGHT
TZOFFSETFROM:+0100
TZOFFSETTO:+0200
TZNAME:CEST
DTSTART:20230326T010000
END:DAYLIGHT
BEGIN:STANDARD
TZOFFSETFROM:+0200
TZOFFSETTO:+0100
TZNAME:CET
DTSTART:20231029T010000
END:STANDARD
BEGIN:DAYLIGHT
TZOFFSETFROM:+0100
TZOFFSETTO:+0200
TZNAME:CEST
DTSTART:20240331T010000
END:DAYLIGHT
BEGIN:STANDARD
TZOFFSETFROM:+0200
TZOFFSETTO:+0100
TZNAME:CET
DTSTART:20241027T010000
END:STANDARD
BEGIN:DAYLIGHT
TZOFFSETFROM:+0100
TZOFFSETTO:+0200
TZNAME:CEST
DTSTART:20250330T010000
END:DAYLIGHT
BEGIN:STANDARD
TZOFFSETFROM:+0200
TZOFFSETTO:+0100
TZNAME:CET
DTSTART:20251026T010000
END:STANDARD
BEGIN:DAYLIGHT
TZOFFSETFROM:+0100
TZOFFSETTO:+0200
TZNAME:CEST
DTSTART:20260329T010000
END:DAYLIGHT
BEGIN:STANDARD
TZOFFSETFROM:+0200
TZOFFSETTO:+0100
TZNAME:CET
DTSTART:20261025T010000
END:STANDARD
BEGIN:DAYLIGHT
TZOFFSETFROM:+0100
TZOFFSETTO:+0200
TZNAME:CEST
DTSTART:20270328T010000
END:DAYLIGHT
BEGIN:STANDARD
TZOFFSETFROM:+0200
TZOFFSETTO:+0100
TZNAME:CET
DTSTART:20271031T010000
END:STANDARD
END:VTIMEZONE
BEGIN:VTIMEZONE
TZID:UTC
BEGIN:STANDARD
TZOFFSETFROM:+0000
TZOFFSETTO:+0000
TZNAME:UTC
DTSTART:20230101T000000
END:STANDARD
END:VTIMEZONE
BEGIN:VEVENT
DTSTART;TZID=Europe/Amsterdam:20260120T160000
DTEND;TZID=Europe/Amsterdam:20260120T180000
DTSTAMP:20260422T015407
CREATED:20260106T122953Z
LAST-MODIFIED:20260113T162247Z
UID:10000077-1768924800-1768932000@netherlands.iasaglobal.org
SUMMARY:Women in Architecture (WIA) NL Event
DESCRIPTION:✨ Join the Women In Architecture (WIA) Quarterly Meeting NL  – in English✨ \nWe invite you to our upcoming WIA Quarterly Meeting\, organized by the WIA Netherlands representatives. As this session is online\, it is open globally! Join us for an inspiring gathering designed to connect\, empower\, and elevate women in the architecture profession. \nRemember\, this event is created by women in architecture\, but it’s designed for everyone — women and men alike! Your participation is important to help build a truly inclusive and diverse community. \n📅 Date: 20 January 2026🕓 Time: 16:00 – 18:00 CET📍 Location: Online (English)As AI systems evolve from copilots to autonomous agents\, enterprises must rethink how they design and operate their architectures. Traditional Enterprise Architecture is no longer enough — we are entering the era of Agentic Enterprise Architecture.We’re excited to welcome Harsha Upadhyay as our guest speaker\, who will guide us through this transformation and share a practical framework for building adaptive\, autonomous\, and continuously learning enterprises.🎤 Speaker: Harsha Upadhyay🧠 Topic: Agentic Enterprise ArchitectureWhat to expect:✔ Understanding the shift from traditional EA to Agentic EA✔ A clear framework for Agentic Enterprise Architecture✔ Key challenges and practical strategies for agentic enterprise success✔ Open discussion with peers and expertsAgenda:🕓 16:00 CET – Arrival & open discussion – Petra in ‘t Veld-Brown\, Mirjam Verlinden\, Wai-Ling Chiu\, Esther Riedstra🕓 16:15 CET– WIA NL update (Leadership Team)🕓 16:30 CET– Agentic Enterprise Architecture – Harsha Upadhyay🕔 17:00 CET – Interactive discussion🕠 17:30 CET – Feedback & closureWith over 24 years of experience in enterprise data and application architecture\, Harsha brings a unique blend of deep architectural expertise and cutting-edge agentic AI solutioning. Through her initiative All About Data\, she focuses on making agentic AI accessible\, affordable\, and responsibly integrated across industries — always with data at the core. \nYou’re welcome to invite one colleague. \nLink for the call: https://teams.microsoft.com/l/meetup-join/19%3ameeting_YTBlMjc0ZjEtNDBiNS00ZmJjLTliMWMtNDNlYmJkMWU2NWJk%40thread.v2/0?context=%7b%22Tid%22%3a%22bad69fe5-f001-4a91-9e67-9ceebf327367%22%2c%22Oid%22%3a%22cf2286dd-0fbc-4974-8c70-8ad5df855d95%22%7d
URL:https://netherlands.iasaglobal.org/event/women-in-architecture-wia-nl-event/
LOCATION:Online
CATEGORIES:WIA
ATTACH;FMTTYPE=image/png:https://netherlands.iasaglobal.org/wp-content/uploads/2026/01/WIA-EVENT-NL-january-20.png
END:VEVENT
BEGIN:VEVENT
DTSTART;TZID=Europe/Amsterdam:20251103T080000
DTEND;TZID=Europe/Amsterdam:20251107T170000
DTSTAMP:20260422T015407
CREATED:20250612T235431Z
LAST-MODIFIED:20250702T124259Z
UID:10000072-1762156800-1762534800@netherlands.iasaglobal.org
SUMMARY:Software Architecture
DESCRIPTION:The associate software architect curriculum course provides the final elements necessary to the knowledge and practice of software architecture at the associate level. During the course\, you will explore the software engineering and application development practices that distinguish you as a software architect. The program builds on the IT environment skills and design skills learned in the foundation associate courses.
URL:https://www.iasaglobal.org/event/software-architectre-august/#new_tab
ATTACH;FMTTYPE=image/png:https://netherlands.iasaglobal.org/wp-content/uploads/2025/06/Software-Architecture.png
END:VEVENT
BEGIN:VEVENT
DTSTART;TZID=Europe/Amsterdam:20251029T163000
DTEND;TZID=Europe/Amsterdam:20251029T183000
DTSTAMP:20260422T015407
CREATED:20250630T125143Z
LAST-MODIFIED:20251021T204521Z
UID:10000074-1761755400-1761762600@netherlands.iasaglobal.org
SUMMARY:Women in Architecture NL Meeting - IN PERSON
DESCRIPTION:Join us for the upcoming Women in Architecture Quarterly Meeting\, an inspiring online gathering designed to connect\, empower\, and elevate women in the architecture profession. \n📅 Wednesday\, 29 October 2025🕓 16:00 – 19:00 CET \n📍Accenture Office Rotterdam\nWilhelminakade 157\, 33e etage\n3072 AP Rotterdam\nGoogle Maps \nFollowed by a networking dinner at a nearby restaurant. Each participant will cover the cost of their own meal. If you prefer to attend only the meeting or only the dinner\, please just let us know. \nThis session is organized by the WIA representatives in the Netherlands: \n\n\nMirjam Verlinden \n\n\nPetra in ’t Veld-Brown \n\n\nWai Ling Chiu \n\nEsther Riedstra\n\nAgenda:  \n6:00 – 16:15 Arrival \n16:15 – 16:30 WIA Intro and Update DADD Leadership team: Petra\, Esther\, Wai Ling\, Mirjam \n16:30 – 18:00 “Practical Take: Data Strategy & Architecture” Presentation & facilitated session Speakers: Gabrielle Filip – Data Strategy\, Esther – Data Architecture \n18:00 – 18:45 Interactive networking & discussion \n18:45 – 19:00 Feedback & Closure \nIf you have a topic you’d like to bring to the table and community please contact us to amiguel@iasaoffice.org \nYou’re welcome to bring one colleague with you — just let us know her or his name when you confirm your attendance. \nLet’s continue building a strong\, inclusive\, and global network for women in architecture.
URL:https://netherlands.iasaglobal.org/event/women-in-architecture-nl-meeting-oct/
LOCATION:Accenture Office Rotterdam\, Wilhelminakade 157\, 33e etage\, Rotterdam\, Netherlands
CATEGORIES:Chapter Events,WIA
ATTACH;FMTTYPE=image/png:https://netherlands.iasaglobal.org/wp-content/uploads/2025/06/WIA-29-10.png
END:VEVENT
BEGIN:VEVENT
DTSTART;TZID=Europe/Amsterdam:20251008T163000
DTEND;TZID=Europe/Amsterdam:20251008T210000
DTSTAMP:20260422T015407
CREATED:20250709T105301Z
LAST-MODIFIED:20251006T150349Z
UID:10000075-1759941000-1759957200@netherlands.iasaglobal.org
SUMMARY:CAF Roundtable & Dinner
DESCRIPTION:CAF Roundtable & Dinner will take place in Amsterdam on Wednesday\, 8 October 2025\, at 16:30.\n\n📍 Location: Hotel NH Amsterdam Zuid\, Van Leijenberghlaan 221\, 1082 GG Amsterdam\n🕔 Time: 16:30\n\nThe evening will kick off with insightful talks. Arno Schilperoord\, Chief Architect at Heineken\, and Mirjam Verlinden\, Chief Architect at Rabobank will lead this conversation.\n\nAfter the presentations\, we’ll head to a nearby restaurant for dinner:\n📍 Location: Restaurant t Zusje Amsterdam\, Van Leijenberghlaan 320\, 1082 DD\n🕔 Time: 19:00\n\nOur goal is to create an open and interactive discussion\, exploring differing perspectives on participants’ beliefs and the strengths and weaknesses of current cloud-based solutions.\nPlease note that everyone will cover their own meal costs.\n\n\nThis event is just for CAF members. If you are a CAF member\, you should have received a calendar invitation from Georgina Smith. You can accept the calendar invitation or write an email to Amanda – amiguel@iasaoffice.org
URL:https://netherlands.iasaglobal.org/event/caf-dinner-2/
LOCATION:Hotel NH Amsterdam Zuid\, Van Leijenberghlaan 221\, Amsterdam\, 1082GG\, Netherlands
CATEGORIES:CAF Events
ATTACH;FMTTYPE=image/png:https://netherlands.iasaglobal.org/wp-content/uploads/2024/11/CAF-Dinner.png
END:VEVENT
BEGIN:VEVENT
DTSTART;TZID=UTC:20250909T160000
DTEND;TZID=UTC:20250909T193000
DTSTAMP:20260422T015407
CREATED:20250630T123844Z
LAST-MODIFIED:20250904T130521Z
UID:10000073-1757433600-1757446200@netherlands.iasaglobal.org
SUMMARY:Chapter Quarterly Summit - Sept
DESCRIPTION:Details\n\n\nSave the Date for Our Next Chapter Quarterly Event! \nWe’re excited to invite you to our Next Chapter Quarterly Event on 4 September 2025! \n🗓 Date: 9 September 2025\n⏰ Time: 16:30 – 19:30\n📍 Location:NH Amsterdam Zuid\,\nvan Leijenberghlaan 221\,\n1082 GG Amsterdam \n16:00 Introduction\n16:30 Ayla Bayens\, ASN Bank\, Chief Architect \nAyla Bayens worked as an Enterprise Architect for several years at a national health and safety service and a health insurer. Today\, she works as the Chief Architect at ASN Bank after years at the Volksbank as their leading Enterprise Architect. Her specialism is working under architecture in agile organisations. \n17:15 Light Dinner + networking – grab your slice of pizza! 🍕🍕\n18:00 Session: René Pingen\, Chief Technology Officer\, Utilus \n“No surprises software development”\nDuring a software development project a million decisions need to be made\, some of them completely inconsequential\, others with potential impact on the companies strategy. It’s impossible to discuss all decisions at all levels. We have all seen that Sprint’ing and Scrum’ing will not get the board level decisions to the board level. Nor does it in itself empower the developers to take the development decisions. \n18:45 Quick intro IASA’s new certified Training \n🎤 Introduction on Intelligent Customer Interaction Architect \nArjen Bonsing is a Dutch thought leader and helps C-level teams create strategic clarity and activate intelligent\, customer-centric strategy in the AI-powered Individual Age \n19:00 🍻 Drinks + networking (optional) \n19:30 Close \nJoin us for an afternoon of insightful discussions\, networking\, and a delicious dinner. We’re thrilled to have two amazing speakers lined up to share their expertise\, followed by great opportunities to connect with colleagues from the sector. \n✨ Feel free to bring one guest along! ✨ \nLooking forward to seeing you there!
URL:https://netherlands.iasaglobal.org/event/chapter-quarterly-summit-sept/
LOCATION:Hotel NH Amsterdam Zuid\, Van Leijenberghlaan 221\, Amsterdam\, 1082GG\, Netherlands
CATEGORIES:Chapter Events
ATTACH;FMTTYPE=image/png:https://netherlands.iasaglobal.org/wp-content/uploads/2024/11/Summit-Architecture.png
END:VEVENT
BEGIN:VEVENT
DTSTART;TZID=Europe/Amsterdam:20250327T173000
DTEND;TZID=Europe/Amsterdam:20250327T220000
DTSTAMP:20260422T015407
CREATED:20241112T094338Z
LAST-MODIFIED:20250228T090048Z
UID:10000026-1743096600-1743112800@netherlands.iasaglobal.org
SUMMARY:CAF Dinner
DESCRIPTION:Every quarter we celebrate the CAF Dinner\, in which after a presentation or round table\, we celebrate a dinner all together. \nLocation and further details will be confirmed soon. \nPlease take into account that everyone has to pay for their dinner. \n𝐓𝐡𝐢𝐬 𝐞𝐯𝐞𝐧𝐭 𝐢𝐬 𝐣𝐮𝐬𝐭 𝐟𝐨𝐫 𝐂𝐀𝐅 𝐌𝐞𝐦𝐛𝐞𝐫𝐬
URL:https://netherlands.iasaglobal.org/event/caf-dinner/
LOCATION:Rabobank\, Croeselaan 18\, Utrecht\, 3521 CB
CATEGORIES:CAF Events
ATTACH;FMTTYPE=image/png:https://netherlands.iasaglobal.org/wp-content/uploads/2024/11/CAF-Dinner.png
END:VEVENT
BEGIN:VEVENT
DTSTART;TZID=Europe/Amsterdam:20250102T120351
DTEND;TZID=Europe/Amsterdam:20250102T120351
DTSTAMP:20260422T015407
CREATED:20250102T192631Z
LAST-MODIFIED:20250102T192631Z
UID:10000061-1735819431-1735819431@netherlands.iasaglobal.org
SUMMARY:Solution Q1
DESCRIPTION:Welcome to the IASA Core course! Also called Iasa Foundation\, this is course has been taught to thousands globally. It is an absolute pleasure working with architects from all over the world on understanding and growing our professional practice. We hope to work with you as well both to teach and to learn. The Iasa curriculum is designed by architects\, with architects and for architects. It is my life’s mission and true joy to have seen these ideas emerge and take root in our field.
URL:https://netherlands.iasaglobal.org/event/solution-q1-3/
END:VEVENT
BEGIN:VEVENT
DTSTART;TZID=Europe/Amsterdam:20250102T120351
DTEND;TZID=Europe/Amsterdam:20250102T120351
DTSTAMP:20260422T015407
CREATED:20250102T153911Z
LAST-MODIFIED:20250102T153911Z
UID:10000059-1735819431-1735819431@netherlands.iasaglobal.org
SUMMARY:Solution Q1
DESCRIPTION:Welcome to the IASA Core course! Also called Iasa Foundation\, this is course has been taught to thousands globally. It is an absolute pleasure working with architects from all over the world on understanding and growing our professional practice. We hope to work with you as well both to teach and to learn. The Iasa curriculum is designed by architects\, with architects and for architects. It is my life’s mission and true joy to have seen these ideas emerge and take root in our field.
URL:https://netherlands.iasaglobal.org/event/solution-q1-2/
END:VEVENT
BEGIN:VEVENT
DTSTART;TZID=UTC:20241128T150000
DTEND;TZID=UTC:20241128T190000
DTSTAMP:20260422T015407
CREATED:20241113T224604Z
LAST-MODIFIED:20241030T113451Z
UID:10000001-1732806000-1732820400@netherlands.iasaglobal.org
SUMMARY:Chapter Quarterly Summit
DESCRIPTION:Details\n\n\nSave the Date for Our Next Chapter Quarterly Event! \nWe’re excited to invite you to our Next Chapter Quarterly Event on 28th November 2024! \n🗓 Date: 28th November 2024\n⏰ Time: 15:30 – 19:30\n📍 Location: Value Blue\, Nijverheidsweg 16\, 3534 AM Utrecht \n15:30 Introduction – Dennis Mulder – Chapter President\n16:00 Low Code platform Triggre\, why did they build Triggre\, what is the Architecture\, what were the design decisions – Jesse Meijers – Co-Founder Triggre\n17:00 Dinner + networking\n18:00 Session. Speaker to be confirmed\n19:00 Drinks + networking\n19:30 Close \nAt 18.00\, in addition to the speaker who is yet to be confirmed\, there will also be a WIA session\, led by Petra in ‘t Veld Brown and Mirjam Verlinden. So you can attend one or the other session. \nJoin us for an afternoon of insightful discussions\, networking\, and a delicious dinner. We’re thrilled to have two amazing speakers lined up to share their expertise\, followed by great opportunities to connect with colleagues from the sector. \n✨ Feel free to bring one guest along! ✨ \nLooking forward to seeing you there!
URL:https://netherlands.iasaglobal.org/event/chapter-quarterly-summit/
LOCATION:Value Blue\, ValueBlue\, Nijverheidsweg\,\, Netherlands\, Utrecht\, North Holland\, 5054AM\, Netherlands
CATEGORIES:Chapter Events
END:VEVENT
BEGIN:VEVENT
DTSTART;TZID=Europe/Amsterdam:20241128T000000
DTEND;TZID=Europe/Amsterdam:20241128T000000
DTSTAMP:20260422T015407
CREATED:20241112T092410Z
LAST-MODIFIED:20241112T102422Z
UID:10000016-1732752000-1732752000@netherlands.iasaglobal.org
SUMMARY:Chapter Event
DESCRIPTION:Save the Date for Our Next Chapter Quarterly Event! \nWe’re excited to invite you to our Next Chapter Quarterly Event on 28th November 2024! \n🗓 Date: 28th November 2024\n⏰ Time: 15:30 – 19:30\n📍 Location: Value Blue\, Nijverheidsweg 16\, 3534 AM Utrecht \n15:30 Introduction – Dennis Mulder – Chapter President\n16:00 Low Code platform Triggre\, why did they build Triggre\, what is the Architecture\, what were the design decisions – Jesse Meijers – Co-Founder Triggre\n17:00 Dinner + networking\n18:00 Customer Obsessed Architecture. Arjen Bonsing\n19:00 Drinks + networking\n19:30 Close \nJoin us for an afternoon of insightful discussions\, networking\, and a delicious dinner. We’re thrilled to have two amazing speakers lined up to share their expertise\, followed by great opportunities to connect with colleagues from the sector. \n✨ Feel free to bring one guest along! ✨ \nLooking forward to seeing you there!
URL:https://netherlands.iasaglobal.org/event/caf-dinner-q4-2025-2/
LOCATION:Value Blue\, ValueBlue\, Nijverheidsweg\,\, Netherlands\, Utrecht\, North Holland\, 5054AM\, Netherlands
CATEGORIES:Chapter Events
END:VEVENT
BEGIN:VEVENT
DTSTART;TZID=Europe/Amsterdam:20241111T193000
DTEND;TZID=Europe/Amsterdam:20241111T203000
DTSTAMP:20260422T015407
CREATED:20241105T170349Z
LAST-MODIFIED:20241105T171025Z
UID:10000025-1731353400-1731357000@netherlands.iasaglobal.org
SUMMARY:First Online WIA Meeting
DESCRIPTION:Join us as we launch Women in Architecture (WIA)\, a global initiative powered by Iasa Global to accelerate the pathway for women in architecture and amplify their impact worldwide. Our mission is clear: to expand opportunities for women in enterprise architecture\, foster equality\, and empower women to drive transformative change in the field. \n📅 Event Highlights: \n\nSpeakers: We’re thrilled to have Mirjam Verlinden and Petra In ‘t Veld-Brown\, WIA representatives from the Netherlands\, who will introduce WIA to our Netherlands Chapter.\nSpecial Guests: Hear from Whynde Kuehn\, as well as Paul Preiss CEO of Iasa Global\, and Dennis Mulder\, President of IASA Global\, who will be speaking about WIA’s vision and goals.\nRound Table: Wrap up with an interactive roundtable discussion—a chance to share insights\, ask questions\, and connect with peers.\n\nBe part of this transformative movement! Let’s work together to pave the way for women in enterprise architecture. \nDon’t miss out on this incredible opportunity to be part of WIA from the start!
URL:https://netherlands.iasaglobal.org/event/first-online-wia-meeting/
CATEGORIES:Chapter Events,WIA
ATTACH;FMTTYPE=image/webp:https://netherlands.iasaglobal.org/wp-content/uploads/2024/11/firstwianetherlands.webp
LOCATION:
END:VEVENT
END:VCALENDAR